BEGIN:VCALENDAR
VERSION:2.0
PRODID:-//Suha Krajina - ECPv6.15.11//NONSGML v1.0//EN
CALSCALE:GREGORIAN
METHOD:PUBLISH
X-WR-CALNAME:Suha Krajina
X-ORIGINAL-URL:https://visitsuhakrajina.si
X-WR-CALDESC:Dogodki za Suha Krajina
REFRESH-INTERVAL;VALUE=DURATION:PT1H
X-Robots-Tag:noindex
X-PUBLISHED-TTL:PT1H
BEGIN:VTIMEZONE
TZID:Europe/Ljubljana
BEGIN:DAYLIGHT
TZOFFSETFROM:+0100
TZOFFSETTO:+0200
TZNAME:CEST
DTSTART:20250330T010000
END:DAYLIGHT
BEGIN:STANDARD
TZOFFSETFROM:+0200
TZOFFSETTO:+0100
TZNAME:CET
DTSTART:20251026T010000
END:STANDARD
BEGIN:DAYLIGHT
TZOFFSETFROM:+0100
TZOFFSETTO:+0200
TZNAME:CEST
DTSTART:20260329T010000
END:DAYLIGHT
BEGIN:STANDARD
TZOFFSETFROM:+0200
TZOFFSETTO:+0100
TZNAME:CET
DTSTART:20261025T010000
END:STANDARD
BEGIN:DAYLIGHT
TZOFFSETFROM:+0100
TZOFFSETTO:+0200
TZNAME:CEST
DTSTART:20270328T010000
END:DAYLIGHT
BEGIN:STANDARD
TZOFFSETFROM:+0200
TZOFFSETTO:+0100
TZNAME:CET
DTSTART:20271031T010000
END:STANDARD
END:VTIMEZONE
BEGIN:VEVENT
DTSTART;TZID=Europe/Ljubljana:20260208T130000
DTEND;TZID=Europe/Ljubljana:20260208T203000
DTSTAMP:20260426T000825
CREATED:20260114T162516Z
LAST-MODIFIED:20260114T162625Z
UID:1767837-1770555600-1770582600@visitsuhakrajina.si
SUMMARY:Dan odprtih vrat - Muzej Natura 2000
DESCRIPTION:Dan odprtih vrat – Muzej natura 2000 \n\n\n\nMožnost tudi vodenega ogleda – prijave na zavod@zuzemberk.si \n\n\n\nOb 15.00 predstava za otroke “Zmaj”“Zmaj” – po pravljici Janeza Bitenca: \n\n\n\nPravljica pripoveduje o dečku Petru\, ki izdela zmaja in mu zaupa posebno pismo za Sonce. Toda Sonce ne sije več – skrilo se je\, ker je Zemlja polna smeti. Zmaj se na poti sreča z oblaki in vetrom\, a kljub oviram uspe pismo dostaviti Soncu. Ko otroci skupaj očistijo mesto\, narava znova oživi\, Sonce pa spet zasije v vsej svoji toplini.Zgodba otrokom na igriv in doživljajski način približa pomen čistega okolja in sodelovanja.Delavke Vrtca Sonček iz Žužemberka – SONČKOVO GLEDALIŠČEZMAJ: Katja HribarVETER in NINA: Nika LovšeBELI OBLAK in JURE: Mojca ObrstarPETER in TEMNI OBLAK: Jožica ŠtrasbergerČRNI OBLAK in TINE: Urška Vidmar KlemenčičSonce: Lilijana HrovatZAŽELJENI PROSTOVOLJNI PRISPEVKI \n\n\n\nOb 16.30 branje poezije \n\n\n\nOb 18.00 komedija Visoka napetost! \n\n\n\nNajnovejša komedija Matjaža Javšnika – VISOKA NAPETOST!V komediji Visoka napetost spoznamo par srednjih let\, ona tajnica direktorja v večjem podjetju v privatni lasti\, on šofer kamiona – hruške. Glavna težava\, ki njun zakon dnevno postavlja na kocko je dejstvo\, da je eden izmed njiju neploden. Spoznamo ju v trenutku\, ko se ona vrne dva dni prepozno iz sindikalnega izleta. Takoj se prične vrtinec reminiscenc\, obtoževanj\, očitkov in boja za svoj prav. Energična\, vrtoglava\, z besednimi dvoboji in situacijsko komiko nabita predstava\, polna čustev ter zagotovljene zabave\, vas bo na šaljiv način opomnila\, kako pomembna je bližina in da prava ljubezen premaga vse ovire\,Vabljeni na vrtiljak imenovan zakonska zveza – duet\, kjer se vse iskri in poka! Tam\, kjer je doma visoka napetost! \n\n\n\nScenarij in režija: MATJAŽ JAVŠNIKIgrata: MATJAŽ JAVŠNIKSANDRA DEBELAK \n\n\n\nVstopnina: 10€ z ddvjem .Za rezervacijo vstopnic pišite na zavod@zuzemberk.siŠtevilo mest je omejeno\, zato pohitite! \n\n\n\nVabljeni!
URL:https://visitsuhakrajina.si/dogodek/dan-odprtih-vrat-muzej-natura-2000/
LOCATION:Dvorana Trajberk\, Auerspergova železarna na Dvoru\, Dvor 49\, 8361 Dvor\, Dvor\, 8361\, Slovenia
ATTACH;FMTTYPE=image/png:https://visitsuhakrajina.si/wp-content/uploads/2026/01/dan-odprtih-vrat-8.-februar-cover.png
ORGANIZER;CN="Zavod %C5%BDu%C5%BEemberk":MAILTO:zavod@zuzemberk.si
END:VEVENT
BEGIN:VEVENT
DTSTART;TZID=Europe/Ljubljana:20260208T150000
DTEND;TZID=Europe/Ljubljana:20260208T160000
DTSTAMP:20260426T000825
CREATED:20260114T162812Z
LAST-MODIFIED:20260114T162814Z
UID:1767844-1770562800-1770566400@visitsuhakrajina.si
SUMMARY:Predstava za otroke - Zmaj
DESCRIPTION:“Zmaj” – po pravljici Janeza Bitenca: \n\n\n\nPravljica pripoveduje o dečku Petru\, ki izdela zmaja in mu zaupa posebno pismo za Sonce. Toda Sonce ne sije več – skrilo se je\, ker je Zemlja polna smeti. Zmaj se na poti sreča z oblaki in vetrom\, a kljub oviram uspe pismo dostaviti Soncu. Ko otroci skupaj očistijo mesto\, narava znova oživi\, Sonce pa spet zasije v vsej svoji toplini.Zgodba otrokom na igriv in doživljajski način približa pomen čistega okolja in sodelovanja. \n\n\n\nNAUK:Pravljica opozarja\, da pogosto ne opazimo\, koliko škode ljudje delamo naravi. Narava se nam lahko »maščuje.« Pomembno je\, da skrbimo za okolje in tej navadi privajamo tudi otroke že od malih nog. \n\n\n\nDelavke Vrtca Sonček iz Žužemberka – SONČKOVO GLEDALIŠČE \n\n\n\nZMAJ: Katja HribarVETER in NINA: Nika LovšeBELI OBLAK in JURE: Mojca ObrstarPETER in TEMNI OBLAK: Jožica ŠtrasbergerČRNI OBLAK in TINE: Urška Vidmar KlemenčičSonce: Lilijana Hrovat \n\n\n\nZAŽELJENI PROSTOVOLJNI PRISPEVKI 
URL:https://visitsuhakrajina.si/dogodek/predstava-za-otroke-zmaj/
LOCATION:Dvorana Trajberk\, Auerspergova železarna na Dvoru\, Dvor 49\, 8361 Dvor\, Dvor\, 8361\, Slovenia
ATTACH;FMTTYPE=image/png:https://visitsuhakrajina.si/wp-content/uploads/2026/01/predstava-za-otroke-Zmaj-cover1.png
ORGANIZER;CN="Zavod %C5%BDu%C5%BEemberk":MAILTO:zavod@zuzemberk.si
END:VEVENT
BEGIN:VEVENT
DTSTART;TZID=Europe/Ljubljana:20260208T180000
DTEND;TZID=Europe/Ljubljana:20260208T193000
DTSTAMP:20260426T000825
CREATED:20260114T163040Z
LAST-MODIFIED:20260114T163042Z
UID:1767847-1770573600-1770579000@visitsuhakrajina.si
SUMMARY:Komedija - Visoka napetost!
DESCRIPTION:Najnovejša komedija Matjaža Javšnika – VISOKA NAPETOST!V komediji Visoka napetost spoznamo par srednjih let\, ona tajnica direktorja v večjem podjetju v privatni lasti\, on šofer kamiona – hruške. Glavna težava\, ki njun zakon dnevno postavlja na kocko je dejstvo\, da je eden izmed njiju neploden. Spoznamo ju v trenutku\, ko se ona vrne dva dni prepozno iz sindikalnega izleta. Takoj se prične vrtinec reminiscenc\, obtoževanj\, očitkov in boja za svoj prav. Energična\, vrtoglava\, z besednimi dvoboji in situacijsko komiko nabita predstava\, polna čustev ter zagotovljene zabave\, vas bo na šaljiv način opomnila\, kako pomembna je bližina in da prava ljubezen premaga vse ovire\,Vabljeni na vrtiljak imenovan zakonska zveza – duet\, kjer se vse iskri in poka! Tam\, kjer je doma visoka napetost!Scenarij in režija: MATJAŽ JAVŠNIKIgrata: MATJAŽ JAVŠNIKSANDRA DEBELAK \n\n\n\nVstopnina: 10€ z ddvjem .Za rezervacijo vstopnic pišite na zavod@zuzemberk.siŠtevilo mest je omejeno\, zato pohitite!Vabljeni!
URL:https://visitsuhakrajina.si/dogodek/komedija-visoka-napetost/
LOCATION:Dvorana Trajberk\, Auerspergova železarna na Dvoru\, Dvor 49\, 8361 Dvor\, Dvor\, 8361\, Slovenia
ATTACH;FMTTYPE=image/png:https://visitsuhakrajina.si/wp-content/uploads/2026/01/VISOKA-NAPETOST-cover.png
ORGANIZER;CN="Zavod %C5%BDu%C5%BEemberk":MAILTO:zavod@zuzemberk.si
END:VEVENT
BEGIN:VEVENT
DTSTART;TZID=Europe/Ljubljana:20260212T150000
DTEND;TZID=Europe/Ljubljana:20260212T170000
DTSTAMP:20260426T000825
CREATED:20260120T131044Z
LAST-MODIFIED:20260203T100721Z
UID:1767864-1770908400-1770915600@visitsuhakrajina.si
SUMMARY:Pustovanje v Žužemberku
DESCRIPTION:Pustna predstavaPrihod KURENTOV!Vabljeni!
URL:https://visitsuhakrajina.si/dogodek/pustovanje-v-zuzemberku/
LOCATION:Grajski trg\, GRAJSKI TRG 26\, ŽUŽEMBERK\, 8360
ATTACH;FMTTYPE=image/png:https://visitsuhakrajina.si/wp-content/uploads/2026/01/PUSTOVANJE-cover.png
ORGANIZER;CN="Zavod %C5%BDu%C5%BEemberk":MAILTO:zavod@zuzemberk.si
END:VEVENT
BEGIN:VEVENT
DTSTART;TZID=Europe/Ljubljana:20260213T190000
DTEND;TZID=Europe/Ljubljana:20260213T200000
DTSTAMP:20260426T000825
CREATED:20260212T184139Z
LAST-MODIFIED:20260212T184319Z
UID:1767958-1771009200-1771012800@visitsuhakrajina.si
SUMMARY:Kaj lahko storiš ti za svet brez smeti
DESCRIPTION:Te zanima\, kako lahko že z majhnimi koraki prispevaš k svetu brez odpadkov? \n\n\n\nPridi na navdihujoče predavanje\, kjer boš dobil/-a več kot 40 konkretnih in enostavnih zero waste nasvetov za vsakdan  \n\n\n\n Petek\, 13. februarja\, ob 19. uri \n\n\n\n Dvorana Trajberk\, Auerspergova železarna na Dvoru \n\n\n\nDogodek je namenjen vsem\, ki želijo živeti bolj trajnostno\, zmanjšati količino odpadkov in narediti nekaj dobrega za okolje – brez kompliciranja  \n\n\n\n Pridi\, povabi prijatelje in skupaj naredimo korak bližje svetu brez smeti! \n\n\n\nKAJ LAHKO STORIŠ TI ZA SVET BREZ SMETI?
URL:https://visitsuhakrajina.si/dogodek/kaj-lahko-storis-ti-za-svet-brez-smeti/
LOCATION:Dvorana Trajberk\, Auerspergova železarna na Dvoru\, Dvor 49\, 8361 Dvor\, Dvor\, 8361\, Slovenia
ATTACH;FMTTYPE=image/png:https://visitsuhakrajina.si/wp-content/uploads/2026/02/Kaj-lahko-storis-ti-cover-scaled.png
ORGANIZER;CN="Zavod %C5%BDu%C5%BEemberk":MAILTO:zavod@zuzemberk.si
END:VEVENT
BEGIN:VEVENT
DTSTART;TZID=Europe/Ljubljana:20260223T080000
DTEND;TZID=Europe/Ljubljana:20260223T170000
DTSTAMP:20260426T000825
CREATED:20260212T185127Z
LAST-MODIFIED:20260212T185552Z
UID:1767970-1771833600-1771866000@visitsuhakrajina.si
SUMMARY:Aktivne počitnice za otroke
DESCRIPTION:Aktivne počitnice za otroke – prijave so že odprte!  \n\n\n\nTudi februarske počitnice bomo preživeli aktivno\, ustvarjalno in razigrano!Od 23. do 27. februarja pripravljamo pester program za otroke\, poln zabave\, druženja\, gibanja in raziskovanja. \n\n\n\n Kaj vse bomo počeli: \n\n\n\n🔹 Ustvarjalne in poučne delavnice – od robotike do angleščine in zanimivih ročnih spretnosti. \n\n\n\n🔹 Izleti in raziskovanja – ogled muzeja\, obisk gradu in druge zanimivosti naše okolice. \n\n\n\n🔹 Športne in družabne igre – veliko gibanja\, smeha in prijateljstva! \n\n\n\n🔹 Kino in notranje igre – tudi v primeru dežja nas čaka veliko zabave 🍿 \n\n\n\n🔹 Poskrbljeno za vse obroke – zajtrk\, malica\, kosilo in popoldanska malica 🥪🍲🍎 \n\n\n\nVsak dan prinaša nove dogodivščine in priložnosti za učenje skozi igro. Otroci bodo dan preživljali v prijetnem\, varnem in sproščenem okolju\, pod vodstvom izkušenih mentorjev. \n\n\n\n📅 Termin: \n\n\n\n23. – 27. februar 2026 \n\n\n\n📍 Dvor \n\n\n\nPrijave so že odprte! \n\n\n\nAktivne počitnice bodo v primeru zadostnega števila prijav. Prijave zbiramo do 16.2.2026. \n\n\n\nPrispevek za udeležbo: 100 €/teden oziroma 20 €/dan + DDV. \n\n\n\n👉 Izpolnite prijavni obrazec: \n\n\n\n\n \n\n\n\n\nPrijavni list
URL:https://visitsuhakrajina.si/dogodek/aktivne-pocitnice-za-otroke/
LOCATION:Dvorana Trajberk\, Auerspergova železarna na Dvoru\, Dvor 49\, 8361 Dvor\, Dvor\, 8361\, Slovenia
ATTACH;FMTTYPE=image/png:https://visitsuhakrajina.si/wp-content/uploads/2026/02/aktivne-pocitnice1.png
ORGANIZER;CN="Zavod %C5%BDu%C5%BEemberk":MAILTO:zavod@zuzemberk.si
END:VEVENT
END:VCALENDAR