BEGIN:VCALENDAR
VERSION:2.0
PRODID:-//Suha Krajina - ECPv6.15.11//NONSGML v1.0//EN
CALSCALE:GREGORIAN
METHOD:PUBLISH
X-ORIGINAL-URL:https://visitsuhakrajina.si
X-WR-CALDESC:Dogodki za Suha Krajina
REFRESH-INTERVAL;VALUE=DURATION:PT1H
X-Robots-Tag:noindex
X-PUBLISHED-TTL:PT1H
BEGIN:VTIMEZONE
TZID:Europe/Ljubljana
BEGIN:DAYLIGHT
TZOFFSETFROM:+0100
TZOFFSETTO:+0200
TZNAME:CEST
DTSTART:20250330T010000
END:DAYLIGHT
BEGIN:STANDARD
TZOFFSETFROM:+0200
TZOFFSETTO:+0100
TZNAME:CET
DTSTART:20251026T010000
END:STANDARD
BEGIN:DAYLIGHT
TZOFFSETFROM:+0100
TZOFFSETTO:+0200
TZNAME:CEST
DTSTART:20260329T010000
END:DAYLIGHT
BEGIN:STANDARD
TZOFFSETFROM:+0200
TZOFFSETTO:+0100
TZNAME:CET
DTSTART:20261025T010000
END:STANDARD
BEGIN:DAYLIGHT
TZOFFSETFROM:+0100
TZOFFSETTO:+0200
TZNAME:CEST
DTSTART:20270328T010000
END:DAYLIGHT
BEGIN:STANDARD
TZOFFSETFROM:+0200
TZOFFSETTO:+0100
TZNAME:CET
DTSTART:20271031T010000
END:STANDARD
END:VTIMEZONE
BEGIN:VEVENT
DTSTART;TZID=Europe/Ljubljana:20260619T200000
DTEND;TZID=Europe/Ljubljana:20260619T220000
DTSTAMP:20260426T000842
CREATED:20260212T184934Z
LAST-MODIFIED:20260212T185018Z
UID:1767967-1781899200-1781906400@visitsuhakrajina.si
SUMMARY:Pozdrav poletju: Big Band RTV Slovenija in Nina Strnad
DESCRIPTION:Dragi ljubitelji glasbe\,  \n\n\n\nz velikim veseljem vas vabimo na izjemen glasbeni večer z Big Bandom RTV Slovenija\, ki sodi med najvidnejše jazzovske zasedbe pri nas in vrhunsko vokalistko Nino Strnad\, eno najbolj prepoznavnih in cenjenih slovenskih jazz pevk. \n\n\n\nObeta se koncert\, poln elegance\, vrhunske glasbene izvedbe in brezčasnih melodij\, ki bodo navdušile tako ljubitelje jazza kot tudi širšo publiko. Preplet mogočnega zvoka Big Banda in izjemne interpretacije Nine Strnad bo poskrbel za nepozabno doživetje. \n\n\n\n Big Band RTV Slovenija & Nina Strnad – v živo! \n\n\n\n Vstopnice so na voljo:preko Zavoda Žužemberk – zavod@zuzemberk.siter preko sistema OLAII: https://olaii.com/…/pozdrav-poletju-big-band-rtv-slo-in… \n\n\n\nPohitite z nakupom in si zagotovite svoje mesto na večeru vrhunske glasbe\, čustev in odličnega vzdušja. \n\n\n\n Pridružite se nam na posebnem večeru glasbene odličnosti. \n\n\n\nSe vidimo na koncertu! 
URL:https://visitsuhakrajina.si/dogodek/pozdrav-poletju-big-band-rtv-slovenija-in-nina-strnad/
LOCATION:Grad Žužemberk\, Grajski trg 33\, Žužemberk\, 8360\, Slovenia
ATTACH;FMTTYPE=image/png:https://visitsuhakrajina.si/wp-content/uploads/2026/02/pozdrav-poletju-cover-koncna.png
ORGANIZER;CN="Zavod %C5%BDu%C5%BEemberk":MAILTO:zavod@zuzemberk.si
END:VEVENT
END:VCALENDAR