BEGIN:VCALENDAR
VERSION:2.0
PRODID:-//Suha Krajina - ECPv6.15.11//NONSGML v1.0//EN
CALSCALE:GREGORIAN
METHOD:PUBLISH
X-WR-CALNAME:Suha Krajina
X-ORIGINAL-URL:https://visitsuhakrajina.si
X-WR-CALDESC:Dogodki za Suha Krajina
REFRESH-INTERVAL;VALUE=DURATION:PT1H
X-Robots-Tag:noindex
X-PUBLISHED-TTL:PT1H
BEGIN:VTIMEZONE
TZID:Europe/Ljubljana
BEGIN:DAYLIGHT
TZOFFSETFROM:+0100
TZOFFSETTO:+0200
TZNAME:CEST
DTSTART:20250330T010000
END:DAYLIGHT
BEGIN:STANDARD
TZOFFSETFROM:+0200
TZOFFSETTO:+0100
TZNAME:CET
DTSTART:20251026T010000
END:STANDARD
BEGIN:DAYLIGHT
TZOFFSETFROM:+0100
TZOFFSETTO:+0200
TZNAME:CEST
DTSTART:20260329T010000
END:DAYLIGHT
BEGIN:STANDARD
TZOFFSETFROM:+0200
TZOFFSETTO:+0100
TZNAME:CET
DTSTART:20261025T010000
END:STANDARD
BEGIN:DAYLIGHT
TZOFFSETFROM:+0100
TZOFFSETTO:+0200
TZNAME:CEST
DTSTART:20270328T010000
END:DAYLIGHT
BEGIN:STANDARD
TZOFFSETFROM:+0200
TZOFFSETTO:+0100
TZNAME:CET
DTSTART:20271031T010000
END:STANDARD
END:VTIMEZONE
BEGIN:VEVENT
DTSTART;TZID=Europe/Ljubljana:20260428T080000
DTEND;TZID=Europe/Ljubljana:20260428T170000
DTSTAMP:20260425T204751
CREATED:20260212T185732Z
LAST-MODIFIED:20260410T065111Z
UID:1767973-1777363200-1777395600@visitsuhakrajina.si
SUMMARY:Aktivne počitnice za otroke
DESCRIPTION:Aktivne počitnice za otroke – prijave so že odprte!  \n\n\n\nTudi aprilske počitnice bomo preživeli aktivno\, ustvarjalno in razigrano!Od 28.4. – 30.4 4. pripravljamo pester program za otroke\, poln zabave\, druženja\, gibanja in raziskovanja. \n\n\n\n Kaj vse bomo počeli: \n\n\n\n🔹 Ustvarjalne in poučne delavnice \n\n\n\n🔹 Izleti in raziskovanja  \n\n\n\n🔹 Športne in družabne igre  \n\n\n\n🔹 Kino in notranje igre  \n\n\n\n🔹 Poskrbljeno za vse obroke  \n\n\n\nVsak dan prinaša nove dogodivščine in priložnosti za učenje skozi igro. Otroci bodo dan preživljali v prijetnem\, varnem in sproščenem okolju\, pod vodstvom izkušenih mentorjev. \n\n\n\n📅 Termin: \n\n\n\n28.4.-30.4.2026 \n\n\n\n📍 Dvor \n\n\n\nAktivne počitnice bodo v primeru zadostnega števila prijav. Prijave zbiramo do 23.04.2026. \n\n\n\nPrispevek za udeležbo: 100 €/teden oziroma 20 €/dan + DDV. \n\n\n\n👉 Izpolnite prijavni obrazec: \n\n\n\n\n \n\n\n\n\nPrijavni list
URL:https://visitsuhakrajina.si/dogodek/aktivne-pocitnice-za-otroke-2/
LOCATION:Dvorana Trajberk\, Auerspergova železarna na Dvoru\, Dvor 49\, 8361 Dvor\, Dvor\, 8361\, Slovenia
ATTACH;FMTTYPE=image/png:https://visitsuhakrajina.si/wp-content/uploads/2026/02/POCITNICE-APRIL-COVER.png
ORGANIZER;CN="Zavod %C5%BDu%C5%BEemberk":MAILTO:zavod@zuzemberk.si
END:VEVENT
END:VCALENDAR